BEGIN:VCALENDAR
VERSION:2.0
PRODID:Events Booking
BEGIN:VEVENT
UID:69eb77245105b
SUMMARY:SSPCC Fall 2024 Educational Event
DESCRIPTION:South Suburban Postal Customer Council presents it's Fall 2024 
 Educational Event. Online Only
 8:30am to 12:15am
 Topics: 2025 Promotio
 ns\, and Unlocking your Potential.
 $35.00.&nbsp\;
LOCATION:Bedford Park\, IL\, USA
DTSTART:20241120T143000Z
DTEND:20241120T181500Z
DTSTAMP:20241010T022626Z
ORGANIZER;CN=South Suburban Postal Customer Council:MAILTO:webmaster@souths
 uburbanpcc.com
GEO:41.770994;-87.817353
X-APPLE-STRUCTURED-LOCATION;VALUE=URI;X-ADDRESS=Bedford Park\, IL\, USA;X-A
 PPLE-RADIUS=72;X-TITLE=ONLINE:41.770994;-87.817353
END:VEVENT
END:VCALENDAR